BEGIN:VCALENDAR
VERSION:2.0
PRODID:PRCI_Website
CALSCALE:GREGORIAN
METHOD:PUBLISH
BEGIN:VTIMEZONE
TZID:Eastern Standard Time
BEGIN: DAYLIGHT
TZOFFSETFROM:-0500
TZOFFSETTO:-0400
TZNAME:Eastern Standard Time
DTSTART:19700308T020000
RRULE:FREQ=YEARLY;BYMONTH=3;BYDAY=2SU
END: DAYLIGHT
BEGIN:STANDARD
TZOFFSETFROM:-0400
TZOFFSETTO:-0500
TZNAME:Eastern Standard Time
DTSTART:19700308T020000
RRULE:FREQ=YEARLY;BYMONTH=11;BYDAY=1SU
END:STANDARD
END:VTIMEZONE
BEGIN:VEVENT
ATTENDEE; CN ="Hammad Virk";RSVP=TRUE:hammad.virk@plains.com
ATTENDEE; CN ="Zoe Shall";RSVP=TRUE:zshall@prci.org
ATTENDEE; CN ="Rubia Mariath";RSVP=TRUE:rubiam@nait.ca
ATTENDEE; CN ="Roy Han";RSVP=TRUE:roy.han@enbridge.com
ATTENDEE; CN ="Vijay Srinivasan";RSVP=TRUE:srinivasanv@coned.com
ATTENDEE; CN ="Nader Yoosef-Ghodsi";RSVP=TRUE:nader.yoosef@enbridge.com
ATTENDEE; CN ="Weibin  Wang (ARCHIVED)";RSVP=TRUE:wangwb01@pipechina.com.cn
ATTENDEE; CN ="Kenneth Lee";RSVP=TRUE:ken.lee@dnv.com
ATTENDEE; CN ="Tom Bubenik";RSVP=TRUE:thomas.bubenik@dnv.com
ATTENDEE; CN ="Genevieve Stilwell";RSVP=TRUE:genevieve.stilwell@enbridge.com
ATTENDEE; CN ="Tran Mah-Paulson";RSVP=TRUE:tran.mah-paulson@atco.com
ATTENDEE; CN ="Ronald Ten cate";RSVP=TRUE:ronald.tencate@dnv.com
ATTENDEE; CN ="Tammeen Siraj (Archived)";RSVP=TRUE:tammeen_siraj@tcenergy.com
ATTENDEE; CN ="Thomas Marlow";RSVP=TRUE:tmarlow@prci.org
ATTENDEE; CN ="Mark Ryan";RSVP=TRUE:mark.e.ryan@p66.com
ATTENDEE; CN ="Stephen Rapp";RSVP=TRUE:Stephen.Rapp@enbridge.com
ATTENDEE; CN ="Randy Nickel";RSVP=TRUE:rjnickel@dcpmidstream.com
ATTENDEE; CN ="Francois Rongere";RSVP=TRUE:FXRG@pge.com
ATTENDEE; CN ="Zach Booth";RSVP=TRUE:zachary.booth@dnv.com
ATTENDEE; CN ="Dustin Trent";RSVP=TRUE:dustin_trent@tcenergy.com
ATTENDEE; CN ="Eric Willett";RSVP=TRUE:eric_willett@tcenergy.com
ATTENDEE; CN ="Dennis Attwood";RSVP=TRUE:hfe.apps@gmail.com
ATTENDEE; CN ="Michael Plishka";RSVP=TRUE:mplishka@colpipe.com
ATTENDEE; CN ="Nick Khotenko";RSVP=TRUE:nick.khotenko@atco.com
ATTENDEE; CN ="Ellen Buckie";RSVP=TRUE:ellen.buckie@atco.com
ATTENDEE; CN ="Matthew Romney";RSVP=TRUE:matt.romney@tdwilliamson.com
ATTENDEE; CN ="Colin Dooley";RSVP=TRUE:colin_dooley@tcenergy.com
DESCRIPTION:   

 Fueling the Future through Innovation Today 

    Register Now!    

 PRCI is hosting its annual Research Exchange Meeting (REX) on March 8-9, 2022 at the Rosen Plaza Hotel in Orlando, Florida. The meeting will be held in a hybrid format that includes in-person attendance as well as the ability to attend virtually. 

 REX is scheduled each year to provide PRCI member companies, our key research partners, and external stakeholders with a report on important research results and provide a forum for an exchange of ideas. This event is the key knowledge transfer window for PRCI and will provide the attendees an opportunity to learn how to move the results into practice. 

    Agenda now available    

 This year's theme is  Fueling the Future through Innovation Today .  The pipeline sector of the energy industry is seeing many transformational changes. Whether it is in the changing workplace, changes in the generations leading the industry, or the fuels we consider moving through the assets we manage and operate, today’s pipeline system is different from even just a few years earlier. 

 While we all have varying perspectives on changes in the industry, we all rally behind safety and integrity. How each company performs and manages those functions is different, but we come together through the PRCI Research Exchange for 2022 (REX2022) to share innovative solutions, learn from one another and continue to work to eliminate accidents, incidents, and impact to our environment. More critical than ever, we recognize the value of research for the industry to continue to improve our past performance. We will continue collaboration to find solutions for a better tomorrow. 

 Be an Exihibitor. For more information,  click here . 

SUMMARY:2022 PRCI Research Exchange Meeting (REX2022)
DTSTART;TZID=Eastern Standard Time:20220308T080000
DTEND;TZID=Eastern Standard Time:20220309T170000
LOCATION:9700 International Drive, Orlando Florida 32819
ORGANIZER; CN = "Gary Hines":mailto:ghines@prci.org
END:VEVENT
END:VCALENDAR
